
BEGIN:VCALENDAR
VERSION:2.0
PRODID:-//Barrow Training Partnership - ECPv5.7.0//NONSGML v1.0//EN
CALSCALE:GREGORIAN
METHOD:PUBLISH
X-WR-CALNAME:Barrow Training Partnership
X-ORIGINAL-URL:https://www.btp-cumbria.co.uk
X-WR-CALDESC:Events for Barrow Training Partnership
BEGIN:VTIMEZONE
TZID:Europe/London
BEGIN:DAYLIGHT
TZOFFSETFROM:+0000
TZOFFSETTO:+0100
TZNAME:BST
DTSTART:20260329T010000
END:DAYLIGHT
BEGIN:STANDARD
TZOFFSETFROM:+0100
TZOFFSETTO:+0000
TZNAME:GMT
DTSTART:20261025T010000
END:STANDARD
END:VTIMEZONE
BEGIN:VEVENT
DTSTART;VALUE=DATE:20260602
DTEND;VALUE=DATE:20260603
DTSTAMP:20260419T190949
CREATED:20260417T141613Z
LAST-MODIFIED:20260417T141613Z
UID:8436-1780358400-1780444799@www.btp-cumbria.co.uk
SUMMARY:Working in Confined Spaces - Supervisors 6160-05
DESCRIPTION:[vc_row][vc_column width=”1/2″][vc_column_text]The Confined Space Supervisor course Learning Outcomes and Competences consists of: \n\nUnderstand the legislation applying to Confined Space Work\nUnderstand Confined Space Classifications\nApply the Water UK Confined Spaces Policy for Work in Confined Spaces\nUndertake risk assessments for Confined Space Work\nDevelop Safe Systems of Work and Safe Methods of Work for Confined Space Operations (including risk assessments\, method statements\, rescue plans and permits to work)\nSelect\, install and maintain control measures including hygiene procedures\nUnderstand the mechanism of atmosphere testing and monitoring\nDevelop\, install and maintain emergency plans and procedures\nMaintain records and documents for Confined Space work\nUnderstand and apply the requirements for the selection and training of personnel required to enter and work in confined spaces and be part of a rescue team\n\nThis course is suitable for all personnel who are required to manage\, plan and supervise confined space operations\, including those personnel required to write a confined space Safe System of Work (Risk Assessment\, Method of Works\, Rescue Plan) and prepare and issue Permits to Work for confined space entry. \nIf supervising teams in low risk or medium risk confined spaces learners must also hold a City and Guilds Working in Medium Risk Confined Spaces qualification (6160-02 or 6160-09). If supervising teams in high risk confined spaces learners must also hold a City and Guilds Working in High Risk Confined Spaces qualification (6160-03).[/vc_column_text][/vc_column][vc_column width=”1/2″][vc_single_image image=”6313″ img_size=”full” alignment=”center”][/vc_column][/vc_row][vc_row][vc_column][vc_separator css=”.vc_custom_1617718479957{margin-top: 30px !important;}”][/vc_column][/vc_row]
URL:https://www.btp-cumbria.co.uk/event/working-in-confined-spaces-supervisors-6160-05-10/
LOCATION:Rome Street\, Carlisle\, Construction Training Centre\, Rome Street\, Carlisle\, CA2 5AQ\, United Kingdom
CATEGORIES:Health & Safety
ORGANIZER;CN="BTP%20Cumbria":MAILTO:info@btp-cumbria.co.uk
END:VEVENT
END:VCALENDAR