
BEGIN:VCALENDAR
VERSION:2.0
PRODID:-//Barrow Training Partnership - ECPv5.7.0//NONSGML v1.0//EN
CALSCALE:GREGORIAN
METHOD:PUBLISH
X-WR-CALNAME:Barrow Training Partnership
X-ORIGINAL-URL:https://www.btp-cumbria.co.uk
X-WR-CALDESC:Events for Barrow Training Partnership
BEGIN:VTIMEZONE
TZID:Europe/London
BEGIN:DAYLIGHT
TZOFFSETFROM:+0000
TZOFFSETTO:+0100
TZNAME:BST
DTSTART:20210328T010000
END:DAYLIGHT
BEGIN:STANDARD
TZOFFSETFROM:+0100
TZOFFSETTO:+0000
TZNAME:GMT
DTSTART:20211031T010000
END:STANDARD
END:VTIMEZONE
BEGIN:VEVENT
DTSTART;VALUE=DATE:20210907
DTEND;VALUE=DATE:20210909
DTSTAMP:20260424T085945
CREATED:20210730T062156Z
LAST-MODIFIED:20210730T062156Z
UID:5476-1630972800-1631145599@www.btp-cumbria.co.uk
SUMMARY:Scaffold Inspection
DESCRIPTION:Who is the training for?  \nFor those who need to carry out necessary inspections of scaffolding which has been erected by others. \nWhy do they need to do it?  \nTo increase awareness of the dangers and ensure scaffolding is safe to work off. To eliminate the risk of falling from height. \nWhat is involved? \n\nWork at Height regulations 2005\nNASC TG20:13 compliance\nNASC SG04:15 guidelines\nHSE Guidelines\nBasic Scaffolding Materials & Structures\nReporting Inspections/Defects\nWorking Methods\nOn-Site Inspections – (Tube and Fitting)\nPreparing Reports/Scaffold Tagging Systems\nSpecific individual issues\n\n  \nAlso includes a practical assessment and theory test
URL:https://www.btp-cumbria.co.uk/event/scaffold-inspection/
LOCATION:Rome Street\, Carlisle\, Construction Training Centre\, Rome Street\, Carlisle\, CA2 5AQ\, United Kingdom
ORGANIZER;CN="BTP%20Cumbria":MAILTO:info@btp-cumbria.co.uk
END:VEVENT
END:VCALENDAR