
BEGIN:VCALENDAR
VERSION:2.0
PRODID:-//Barrow Training Partnership - ECPv5.7.0//NONSGML v1.0//EN
CALSCALE:GREGORIAN
METHOD:PUBLISH
X-WR-CALNAME:Barrow Training Partnership
X-ORIGINAL-URL:https://www.btp-cumbria.co.uk
X-WR-CALDESC:Events for Barrow Training Partnership
BEGIN:VTIMEZONE
TZID:Europe/London
BEGIN:DAYLIGHT
TZOFFSETFROM:+0000
TZOFFSETTO:+0100
TZNAME:BST
DTSTART:20230326T010000
END:DAYLIGHT
BEGIN:STANDARD
TZOFFSETFROM:+0100
TZOFFSETTO:+0000
TZNAME:GMT
DTSTART:20231029T010000
END:STANDARD
END:VTIMEZONE
BEGIN:VEVENT
DTSTART;VALUE=DATE:20230204
DTEND;VALUE=DATE:20230205
DTSTAMP:20260420T090020
CREATED:20230124T142819Z
LAST-MODIFIED:20230124T142819Z
UID:6663-1675468800-1675555199@www.btp-cumbria.co.uk
SUMMARY:Asbestos Removal
DESCRIPTION:[vc_row][vc_column width=”1/2″][vc_column_text] \nAbout this Course\nThis course is for those who carry out work on buildings where non licensed asbestos is present and to ensure that they are aware of the dangers of asbestos\, can recognise what it looks like and know how to deal with it safely. \n\n\nWhat is involved? \n\nUnderstanding asbestos\, locations & types\nHealth & Safety: before\, during and after work\nUse of equipment (RPE\, PPE & Sundry)\nUnderstanding the health effects when working in an asbestos environment\nYour responsibilities\nLegislation\nEliminate any exposure to asbestos to you and other people around your place of work\nDefinition Of Licensed Work\, Notifiable Non-Licensed and Non-Licensed work\n\n\n\n[/vc_column_text][vc_column_text][/vc_column_text][/vc_column][vc_column width=”1/2″][vc_single_image image=”6085″ img_size=”full”][/vc_column][/vc_row][vc_row][vc_column][vc_separator css=”.vc_custom_1617718479957{margin-top: 30px !important;}”][/vc_column][/vc_row]
URL:https://www.btp-cumbria.co.uk/event/asbestos-removal-3/
LOCATION:Rome Street\, Carlisle\, Construction Training Centre\, Rome Street\, Carlisle\, CA2 5AQ\, United Kingdom
CATEGORIES:Job specific
ORGANIZER;CN="BTP%20Cumbria":MAILTO:info@btp-cumbria.co.uk
END:VEVENT
END:VCALENDAR